BEGIN:VCALENDAR
VERSION:2.0
PRODID:SchoolNow
CALSCALE:GREGORIAN
BEGIN:VEVENT
UID:4eeea368-c49b-11f0-a689-0affc9672fcf
DTSTAMP:20260420T185008Z
SUMMARY:KWH PTA Monthly Meeting @ KWH Library
LOCATION:K. William Harvey Elementary Library
URL;VALUE=URI:https://www.ronank12.edu/calendar/8801728/kwh-pta-monthly-mee
 ting-kwh-library
DTSTART:20260114T003000Z
DTEND:20260114T013000Z
END:VEVENT
END:VCALENDAR
