BEGIN:VCALENDAR
VERSION:2.0
PRODID:SchoolNow
CALSCALE:GREGORIAN
BEGIN:VEVENT
UID:4eeec302-c49b-11f0-bb6e-0affc9672fcf
DTSTAMP:20260420T185008Z
SUMMARY:KWH PTA Monthly Meeting @ KWH Library
LOCATION:K. William Harvey Elementary Library
URL;VALUE=URI:https://www.ronank12.edu/calendar/8801729/kwh-pta-monthly-mee
 ting-kwh-library
DTSTART:20260211T003000Z
DTEND:20260211T013000Z
END:VEVENT
END:VCALENDAR
