BEGIN:VCALENDAR
VERSION:2.0
PRODID:SchoolNow
CALSCALE:GREGORIAN
BEGIN:VEVENT
UID:4eeec596-c49b-11f0-af5e-0affc9672fcf
DTSTAMP:20260420T064010Z
SUMMARY:KWH PTA Monthly Meeting @ KWH Library
LOCATION:K. William Harvey Elementary Library
URL;VALUE=URI:https://www.ronank12.edu/calendar/8801731/kwh-pta-monthly-mee
 ting-kwh-library
DTSTART:20260414T233000Z
DTEND:20260415T003000Z
END:VEVENT
END:VCALENDAR
