BEGIN:VCALENDAR
VERSION:2.0
PRODID:SchoolNow
CALSCALE:GREGORIAN
BEGIN:VEVENT
UID:26b1d85a-ca74-11f0-8d2d-0ef38f98accb
DTSTAMP:20251216T154608Z
SUMMARY:Girls Basketball (Senior Night) (12EC/1:30EC/3EC)
URL;VALUE=URI:https://www.ronank12.edu/calendar/8810126/girls-basketball-se
 nior-night-12ec-1-30ec-3ec
DTSTART;VALUE=DATE:20260214
DTEND;VALUE=DATE:20260215
END:VEVENT
END:VCALENDAR
