BEGIN:VCALENDAR
VERSION:2.0
PRODID:SchoolNow
CALSCALE:GREGORIAN
BEGIN:VEVENT
UID:26b1d990-ca74-11f0-ac88-0ef38f98accb
DTSTAMP:20251216T154608Z
SUMMARY:Girls Basketball @ Browning (1:30/4:30/7:30)
URL;VALUE=URI:https://www.ronank12.edu/calendar/8810127/girls-basketball-br
 owning-1-30-4-30-7-30
DTSTART;VALUE=DATE:20260207
DTEND;VALUE=DATE:20260208
END:VEVENT
END:VCALENDAR
