BEGIN:VCALENDAR
VERSION:2.0
PRODID:SchoolNow
CALSCALE:GREGORIAN
BEGIN:VEVENT
UID:26b1da80-ca74-11f0-bcec-0ef38f98accb
DTSTAMP:20251216T154608Z
SUMMARY:Boys Basketball @ Browning (12/3/6)
URL;VALUE=URI:https://www.ronank12.edu/calendar/8810128/boys-basketball-bro
 wning-12-3-6
DTSTART;VALUE=DATE:20260207
DTEND;VALUE=DATE:20260208
END:VEVENT
END:VCALENDAR
