BEGIN:VCALENDAR
VERSION:2.0
PRODID:SchoolNow
CALSCALE:GREGORIAN
BEGIN:VEVENT
UID:26b1dbac-ca74-11f0-87c0-0ef38f98accb
DTSTAMP:20251216T154608Z
SUMMARY:Boys Basketball vs Flathead (4:15/5:45/7:15)
URL;VALUE=URI:https://www.ronank12.edu/calendar/8810129/boys-basketball-vs-
 flathead-4-15-5-45-7-15
DTSTART;VALUE=DATE:20260126
DTEND;VALUE=DATE:20260127
END:VEVENT
END:VCALENDAR
