BEGIN:VCALENDAR
VERSION:2.0
PRODID:SchoolNow
CALSCALE:GREGORIAN
BEGIN:VEVENT
UID:26b1dd5a-ca74-11f0-b9f4-0ef38f98accb
DTSTAMP:20251216T154608Z
SUMMARY:Boys Basketball @ Polson (12/1:30/3)
URL;VALUE=URI:https://www.ronank12.edu/calendar/8810130/boys-basketball-pol
 son-12-1-30-3
DTSTART;VALUE=DATE:20260124
DTEND;VALUE=DATE:20260125
END:VEVENT
END:VCALENDAR
