BEGIN:VCALENDAR
VERSION:2.0
PRODID:SchoolNow
CALSCALE:GREGORIAN
BEGIN:VEVENT
UID:26b1de4a-ca74-11f0-be1a-0ef38f98accb
DTSTAMP:20251216T154608Z
SUMMARY:Boys Basketball vs Bigfork (4:15/5:45/7:15)
URL;VALUE=URI:https://www.ronank12.edu/calendar/8810131/boys-basketball-vs-
 bigfork-4-15-5-45-7-15
DTSTART;VALUE=DATE:20260210
DTEND;VALUE=DATE:20260211
END:VEVENT
END:VCALENDAR
