BEGIN:VCALENDAR
VERSION:2.0
PRODID:SchoolNow
CALSCALE:GREGORIAN
BEGIN:VEVENT
UID:26b1df4e-ca74-11f0-a485-0ef38f98accb
DTSTAMP:20251216T154608Z
SUMMARY:Boys Basketball @ Bigfork (4:15/5:45/7:15)
URL;VALUE=URI:https://www.ronank12.edu/calendar/8810132/boys-basketball-big
 fork-4-15-5-45-7-15
DTSTART;VALUE=DATE:20260120
DTEND;VALUE=DATE:20260121
END:VEVENT
END:VCALENDAR
