BEGIN:VCALENDAR
VERSION:2.0
PRODID:SchoolNow
CALSCALE:GREGORIAN
BEGIN:VEVENT
UID:26b1e192-ca74-11f0-8565-0ef38f98accb
DTSTAMP:20251216T154608Z
SUMMARY:Boys Basketball vs Whitefish (4:15/5:45/7:15)
URL;VALUE=URI:https://www.ronank12.edu/calendar/8810134/boys-basketball-vs-
 whitefish-4-15-5-45-7-15
DTSTART;VALUE=DATE:20260113
DTEND;VALUE=DATE:20260114
END:VEVENT
END:VCALENDAR
