BEGIN:VCALENDAR
VERSION:2.0
PRODID:SchoolNow
CALSCALE:GREGORIAN
BEGIN:VEVENT
UID:26b1e2a0-ca74-11f0-bd65-0ef38f98accb
DTSTAMP:20251216T154608Z
SUMMARY:Girls Basketball vs Libby (1EC/4EC)
URL;VALUE=URI:https://www.ronank12.edu/calendar/8810135/girls-basketball-vs
 -libby-1ec-4ec
DTSTART;VALUE=DATE:20260131
DTEND;VALUE=DATE:20260201
END:VEVENT
END:VCALENDAR
