BEGIN:VCALENDAR
VERSION:2.0
PRODID:SchoolNow
CALSCALE:GREGORIAN
BEGIN:VEVENT
UID:26b1e3a4-ca74-11f0-9776-0ef38f98accb
DTSTAMP:20251216T154608Z
SUMMARY:Girls Basketball vs Browning (12EC/1:30EC/3EC)
URL;VALUE=URI:https://www.ronank12.edu/calendar/8810136/girls-basketball-vs
 -browning-12ec-1-30ec-3ec
DTSTART;VALUE=DATE:20260117
DTEND;VALUE=DATE:20260118
END:VEVENT
END:VCALENDAR
