BEGIN:VCALENDAR
VERSION:2.0
PRODID:SchoolNow
CALSCALE:GREGORIAN
BEGIN:VEVENT
UID:26b1e4f8-ca74-11f0-a019-0ef38f98accb
DTSTAMP:20251216T154608Z
SUMMARY:Boys Basketball vs Columbia Falls (4:15/5:45/7:15)
URL;VALUE=URI:https://www.ronank12.edu/calendar/8810137/boys-basketball-vs-
 columbia-falls-4-15-5-45-7-15
DTSTART;VALUE=DATE:20260129
DTEND;VALUE=DATE:20260130
END:VEVENT
END:VCALENDAR
