BEGIN:VCALENDAR
VERSION:2.0
PRODID:SchoolNow
CALSCALE:GREGORIAN
BEGIN:VEVENT
UID:26b1e6ba-ca74-11f0-a3be-0ef38f98accb
DTSTAMP:20251216T154608Z
SUMMARY:Girls Basketball @ Polson (12/1:30/5:30)
URL;VALUE=URI:https://www.ronank12.edu/calendar/8810138/girls-basketball-po
 lson-12-1-30-5-30
DTSTART;VALUE=DATE:20260124
DTEND;VALUE=DATE:20260125
END:VEVENT
END:VCALENDAR
