BEGIN:VCALENDAR
VERSION:2.0
PRODID:SchoolNow
CALSCALE:GREGORIAN
BEGIN:VEVENT
UID:26b1e8f4-ca74-11f0-be65-0ef38f98accb
DTSTAMP:20251216T154608Z
SUMMARY:Boys Basketball @ Whitefish (4:15/5:45/7:15)
URL;VALUE=URI:https://www.ronank12.edu/calendar/8810140/boys-basketball-whi
 tefish-4-15-5-45-7-15
DTSTART;VALUE=DATE:20260205
DTEND;VALUE=DATE:20260206
END:VEVENT
END:VCALENDAR
