BEGIN:VCALENDAR
VERSION:2.0
PRODID:SchoolNow
CALSCALE:GREGORIAN
BEGIN:VEVENT
UID:26b1ebce-ca74-11f0-952f-0ef38f98accb
DTSTAMP:20251216T154608Z
SUMMARY:Ballers vs Brawlers @ Columbia Falls (Girls V -3pm)(Boys & Girls Wr
 estling 5pm-7:30pm)(Boys V - 8pm)
URL;VALUE=URI:https://www.ronank12.edu/calendar/8810143/ballers-vs-brawlers
 -columbia-falls-girls-v-3pm-boys-girls-wrestling-5pm-7-30pm-boys-v-8pm
DTSTART;VALUE=DATE:20260106
DTEND;VALUE=DATE:20260107
END:VEVENT
END:VCALENDAR
