BEGIN:VCALENDAR
VERSION:2.0
PRODID:SchoolNow
CALSCALE:GREGORIAN
BEGIN:VEVENT
UID:26b1ef2a-ca74-11f0-acf2-0ef38f98accb
DTSTAMP:20251216T154608Z
SUMMARY:Girls Basketball vs Bigfork (4:15/5:45/7:15)
URL;VALUE=URI:https://www.ronank12.edu/calendar/8810146/girls-basketball-vs
 -bigfork-4-15-5-45-7-15
DTSTART;VALUE=DATE:20260120
DTEND;VALUE=DATE:20260121
END:VEVENT
END:VCALENDAR
