BEGIN:VCALENDAR
VERSION:2.0
PRODID:SchoolNow
CALSCALE:GREGORIAN
BEGIN:VEVENT
UID:26b1f074-ca74-11f0-9448-0ef38f98accb
DTSTAMP:20251216T154608Z
SUMMARY:Boys Basketball @ Libby (1/2:30/4)
URL;VALUE=URI:https://www.ronank12.edu/calendar/8810147/boys-basketball-lib
 by-1-2-30-4
DTSTART;VALUE=DATE:20260221
DTEND;VALUE=DATE:20260222
END:VEVENT
END:VCALENDAR
