BEGIN:VCALENDAR
VERSION:2.0
PRODID:SchoolNow
CALSCALE:GREGORIAN
BEGIN:VEVENT
UID:26b1f164-ca74-11f0-8985-0ef38f98accb
DTSTAMP:20251216T154608Z
SUMMARY:Girls Basketball @ Flathead (4/5:30/7)
URL;VALUE=URI:https://www.ronank12.edu/calendar/8810148/girls-basketball-fl
 athead-4-5-30-7
DTSTART;VALUE=DATE:20260126
DTEND;VALUE=DATE:20260127
END:VEVENT
END:VCALENDAR
