BEGIN:VCALENDAR
VERSION:2.0
PRODID:SchoolNow
CALSCALE:GREGORIAN
BEGIN:VEVENT
UID:26b1f3bc-ca74-11f0-8371-0ef38f98accb
DTSTAMP:20251216T154608Z
SUMMARY:Girls Basketball vs Columbia Falls (4:15/5:45/7:15)
URL;VALUE=URI:https://www.ronank12.edu/calendar/8810150/girls-basketball-vs
 -columbia-falls-4-15-5-45-7-15
DTSTART;VALUE=DATE:20260127
DTEND;VALUE=DATE:20260128
END:VEVENT
END:VCALENDAR
