BEGIN:VCALENDAR
VERSION:2.0
PRODID:SchoolNow
CALSCALE:GREGORIAN
BEGIN:VEVENT
UID:27591a98-ca74-11f0-ab44-0ef38f98accb
DTSTAMP:20251216T154608Z
SUMMARY:Girls Basketball @ Libby (1/5:30)
URL;VALUE=URI:https://www.ronank12.edu/calendar/8810151/girls-basketball-li
 bby-1-5-30
DTSTART;VALUE=DATE:20260221
DTEND;VALUE=DATE:20260222
END:VEVENT
END:VCALENDAR
