BEGIN:VCALENDAR
VERSION:2.0
PRODID:SchoolNow
CALSCALE:GREGORIAN
BEGIN:VEVENT
UID:2759220e-ca74-11f0-a68f-0ef38f98accb
DTSTAMP:20251216T154608Z
SUMMARY:Boys Basketball (Senior Night) vs Polson (12HS/1:30HS/4:15EC)
URL;VALUE=URI:https://www.ronank12.edu/calendar/8810154/boys-basketball-sen
 ior-night-vs-polson-12hs-1-30hs-4-15ec
DTSTART;VALUE=DATE:20260214
DTEND;VALUE=DATE:20260215
END:VEVENT
END:VCALENDAR
