BEGIN:VCALENDAR
VERSION:2.0
PRODID:SchoolNow
CALSCALE:GREGORIAN
BEGIN:VEVENT
UID:27592330-ca74-11f0-bf33-0ef38f98accb
DTSTAMP:20251216T154608Z
SUMMARY:Boys Basketball vs Browning (12HS/1:30HS/4:30EC)
URL;VALUE=URI:https://www.ronank12.edu/calendar/8810155/boys-basketball-vs-
 browning-12hs-1-30hs-4-30ec
DTSTART;VALUE=DATE:20260117
DTEND;VALUE=DATE:20260118
END:VEVENT
END:VCALENDAR
