BEGIN:VCALENDAR
VERSION:2.0
PRODID:SchoolNow
CALSCALE:GREGORIAN
BEGIN:VEVENT
UID:27592452-ca74-11f0-b303-0ef38f98accb
DTSTAMP:20251216T154608Z
SUMMARY:Boys & Girls (F/JV) Basketball Double Header @ Columbia Falls (Boys
  F/JV 4:30/7:30) (Girls F/JV 3/6)
URL;VALUE=URI:https://www.ronank12.edu/calendar/8810156/boys-girls-f-jv-bas
 ketball-double-header-columbia-falls-boys-f-jv-4-30-7-30-girls-f-jv-3-6
DTSTART;VALUE=DATE:20260105
DTEND;VALUE=DATE:20260106
END:VEVENT
END:VCALENDAR
