BEGIN:VCALENDAR
VERSION:2.0
PRODID:SchoolNow
CALSCALE:GREGORIAN
BEGIN:VEVENT
UID:27592722-ca74-11f0-8b9a-0ef38f98accb
DTSTAMP:20251216T154608Z
SUMMARY:Girls Basketball @ Bigfork (4:15/5:45/7:15)
URL;VALUE=URI:https://www.ronank12.edu/calendar/8810159/girls-basketball-bi
 gfork-4-15-5-45-7-15
DTSTART;VALUE=DATE:20260210
DTEND;VALUE=DATE:20260211
END:VEVENT
END:VCALENDAR
