BEGIN:VCALENDAR
VERSION:2.0
PRODID:SchoolNow
CALSCALE:GREGORIAN
BEGIN:VEVENT
UID:2759284e-ca74-11f0-9911-0ef38f98accb
DTSTAMP:20251216T154608Z
SUMMARY:Boys Basketball vs Libby (1HS/1:30HS/4:15EC)
URL;VALUE=URI:https://www.ronank12.edu/calendar/8810160/boys-basketball-vs-
 libby-1hs-1-30hs-4-15ec
DTSTART;VALUE=DATE:20260131
DTEND;VALUE=DATE:20260201
END:VEVENT
END:VCALENDAR
