BEGIN:VCALENDAR
VERSION:2.0
PRODID:SchoolNow
CALSCALE:GREGORIAN
BEGIN:VEVENT
UID:27592d9e-ca74-11f0-996d-0ef38f98accb
DTSTAMP:20251216T154608Z
SUMMARY:Western A Divisional Basketball (TBD)
URL;VALUE=URI:https://www.ronank12.edu/calendar/8810163/western-a-divisiona
 l-basketball-tbd
DTSTART;VALUE=DATE:20260307
DTEND;VALUE=DATE:20260308
END:VEVENT
END:VCALENDAR
