BEGIN:VCALENDAR
VERSION:2.0
PRODID:SchoolNow
CALSCALE:GREGORIAN
BEGIN:VEVENT
UID:276dad14-ca74-11f0-96c3-0ef38f98accb
DTSTAMP:20251216T154609Z
SUMMARY:Class A State Basketball (Great Falls) (TBD)
URL;VALUE=URI:https://www.ronank12.edu/calendar/8810165/class-a-state-baske
 tball-great-falls-tbd
DTSTART;VALUE=DATE:20260313
DTEND;VALUE=DATE:20260314
END:VEVENT
END:VCALENDAR
