BEGIN:VCALENDAR
VERSION:2.0
PRODID:SchoolNow
CALSCALE:GREGORIAN
BEGIN:VEVENT
UID:276dae5e-ca74-11f0-9248-0ef38f98accb
DTSTAMP:20251216T154609Z
SUMMARY:Class A State Basketball (Great Falls) (TBD)
URL;VALUE=URI:https://www.ronank12.edu/calendar/8810166/class-a-state-baske
 tball-great-falls-tbd
DTSTART;VALUE=DATE:20260314
DTEND;VALUE=DATE:20260315
END:VEVENT
END:VCALENDAR
