BEGIN:VCALENDAR
VERSION:2.0
PRODID:SchoolNow
CALSCALE:GREGORIAN
BEGIN:VEVENT
UID:8a900a9c-e04d-11f0-ab79-0a58a9feac02
DTSTAMP:20260420T185008Z
SUMMARY:Prom
URL;VALUE=URI:https://www.ronank12.edu/calendar/8827126/prom
DTSTART;VALUE=DATE:20260516
DTEND;VALUE=DATE:20260517
END:VEVENT
END:VCALENDAR
