BEGIN:VCALENDAR
VERSION:2.0
PRODID:SchoolNow
CALSCALE:GREGORIAN
BEGIN:VEVENT
UID:c6190fd6-c449-11ee-aa87-0a58a9feac02
DTSTAMP:20240205T171243Z
SUMMARY:LOVELY LASAGNA\, TOSSED SALAD\, STRAWBERRY CUP\, GARLIC ROLL
URL;VALUE=URI:https://www.ronank12.edu/departments/food-service/calendar/52
 66406/lovely-lasagna-tossed-salad-strawberry-cup-garlic-roll
DTSTART:20240214T173000Z
DTEND:20240214T193000Z
END:VEVENT
END:VCALENDAR
