BEGIN:VCALENDAR
VERSION:2.0
PRODID:SchoolNow
CALSCALE:GREGORIAN
BEGIN:VEVENT
UID:1ae43ed4-82d3-11f0-a709-02efef4a7877
DTSTAMP:20250826T231924Z
SUMMARY:Chocolate muffins\, string cheese\, juice box\, milk
URL;VALUE=URI:https://www.ronank12.edu/departments/food-service/calendar/85
 47273/chocolate-muffins-string-cheese-juice-box-milk
DTSTART:20250826T140000Z
DTEND:20250826T143000Z
END:VEVENT
END:VCALENDAR
