BEGIN:VCALENDAR
VERSION:2.0
PRODID:SchoolNow
CALSCALE:GREGORIAN
BEGIN:VEVENT
UID:1ae48164-82d3-11f0-a61e-02efef4a7877
DTSTAMP:20250826T231924Z
SUMMARY:Strawberry cream cheese bagel\, juice box\, craisins\, milk
URL;VALUE=URI:https://www.ronank12.edu/departments/food-service/calendar/85
 47274/strawberry-cream-cheese-bagel-juice-box-craisins-milk
DTSTART:20250827T140000Z
DTEND:20250827T143000Z
END:VEVENT
END:VCALENDAR
