BEGIN:VCALENDAR
VERSION:2.0
PRODID:SchoolNow
CALSCALE:GREGORIAN
BEGIN:VEVENT
UID:1ae48574-82d3-11f0-a6f7-02efef4a7877
DTSTAMP:20250826T231924Z
SUMMARY:Bacon Scramble\, Breakfast pizza\, apple slices\, milk
URL;VALUE=URI:https://www.ronank12.edu/departments/food-service/calendar/85
 47275/bacon-scramble-breakfast-pizza-apple-slices-milk
DTSTART:20250828T140000Z
DTEND:20250828T143000Z
END:VEVENT
END:VCALENDAR
