BEGIN:VCALENDAR
VERSION:2.0
PRODID:SchoolNow
CALSCALE:GREGORIAN
BEGIN:VEVENT
UID:1ae487d6-82d3-11f0-a501-02efef4a7877
DTSTAMP:20250826T231924Z
SUMMARY:Pancadke & Sausage on a stick\, diced pears\, milk
URL;VALUE=URI:https://www.ronank12.edu/departments/food-service/calendar/85
 47276/pancadke-sausage-on-a-stick-diced-pears-milk
DTSTART:20250829T140000Z
DTEND:20250829T143000Z
END:VEVENT
END:VCALENDAR
