BEGIN:VCALENDAR
VERSION:2.0
PRODID:SchoolNow
CALSCALE:GREGORIAN
BEGIN:VEVENT
UID:1ae489f2-82d3-11f0-9056-02efef4a7877
DTSTAMP:20250826T231924Z
SUMMARY:Cold cereal\, fruit & grain bar\, juice\, craisins\, milk
URL;VALUE=URI:https://www.ronank12.edu/departments/food-service/calendar/85
 47277/cold-cereal-fruit-grain-bar-juice-craisins-milk
DTSTART:20250902T140000Z
DTEND:20250902T143000Z
END:VEVENT
END:VCALENDAR
