BEGIN:VCALENDAR
VERSION:2.0
PRODID:SchoolNow
CALSCALE:GREGORIAN
BEGIN:VEVENT
UID:1ae48c04-82d3-11f0-a04d-02efef4a7877
DTSTAMP:20250826T231924Z
SUMMARY:Biscuits & Gravy\, juice\, craisins\, milk
URL;VALUE=URI:https://www.ronank12.edu/departments/food-service/calendar/85
 47278/biscuits-gravy-juice-craisins-milk
DTSTART:20250903T140000Z
DTEND:20250903T143000Z
END:VEVENT
END:VCALENDAR
