BEGIN:VCALENDAR
VERSION:2.0
PRODID:SchoolNow
CALSCALE:GREGORIAN
BEGIN:VEVENT
UID:1ae493f2-82d3-11f0-a1b1-02efef4a7877
DTSTAMP:20250826T231924Z
SUMMARY:chocolate muffins\, links\, peaches\, milk
URL;VALUE=URI:https://www.ronank12.edu/departments/food-service/calendar/85
 47280/chocolate-muffins-links-peaches-milk
DTSTART:20250905T140000Z
DTEND:20250905T143000Z
END:VEVENT
END:VCALENDAR
