BEGIN:VCALENDAR
VERSION:2.0
PRODID:SchoolNow
CALSCALE:GREGORIAN
BEGIN:VEVENT
UID:1ae49640-82d3-11f0-a7b5-02efef4a7877
DTSTAMP:20250826T231924Z
SUMMARY:Banana bread\, peaches\, milk
URL;VALUE=URI:https://www.ronank12.edu/departments/food-service/calendar/85
 47281/banana-bread-peaches-milk
DTSTART:20250908T140000Z
DTEND:20250908T143000Z
END:VEVENT
END:VCALENDAR
