BEGIN:VCALENDAR
VERSION:2.0
PRODID:SchoolNow
CALSCALE:GREGORIAN
BEGIN:VEVENT
UID:1ae49834-82d3-11f0-9529-02efef4a7877
DTSTAMP:20250826T231924Z
SUMMARY:Strawberry Bagel\, pears\, milk
URL;VALUE=URI:https://www.ronank12.edu/departments/food-service/calendar/85
 47282/strawberry-bagel-pears-milk
DTSTART:20250909T140000Z
DTEND:20250909T143000Z
END:VEVENT
END:VCALENDAR
