BEGIN:VCALENDAR
VERSION:2.0
PRODID:SchoolNow
CALSCALE:GREGORIAN
BEGIN:VEVENT
UID:1ae49cb2-82d3-11f0-a2d2-02efef4a7877
DTSTAMP:20250826T231924Z
SUMMARY:French toast\, juice\, craisins\, milk
URL;VALUE=URI:https://www.ronank12.edu/departments/food-service/calendar/85
 47284/french-toast-juice-craisins-milk
DTSTART:20250911T140000Z
DTEND:20250911T143000Z
END:VEVENT
END:VCALENDAR
