BEGIN:VCALENDAR
VERSION:2.0
PRODID:SchoolNow
CALSCALE:GREGORIAN
BEGIN:VEVENT
UID:1ae49eb0-82d3-11f0-8727-02efef4a7877
DTSTAMP:20250826T231924Z
SUMMARY:Maple\, bar\, string cheese\, mixed fruit\, milk
URL;VALUE=URI:https://www.ronank12.edu/departments/food-service/calendar/85
 47285/maple-bar-string-cheese-mixed-fruit-milk
DTSTART:20250912T140000Z
DTEND:20250912T143000Z
END:VEVENT
END:VCALENDAR
