BEGIN:VCALENDAR
VERSION:2.0
PRODID:SchoolNow
CALSCALE:GREGORIAN
BEGIN:VEVENT
UID:1ae4a09a-82d3-11f0-993d-02efef4a7877
DTSTAMP:20250826T231924Z
SUMMARY:Cold cereal\, fruit & grain bar\, juice\, craisins\, milk
URL;VALUE=URI:https://www.ronank12.edu/departments/food-service/calendar/85
 47286/cold-cereal-fruit-grain-bar-juice-craisins-milk
DTSTART:20250916T140000Z
DTEND:20250916T143000Z
END:VEVENT
END:VCALENDAR
