BEGIN:VCALENDAR
VERSION:2.0
PRODID:SchoolNow
CALSCALE:GREGORIAN
BEGIN:VEVENT
UID:1ae4a2a2-82d3-11f0-8865-02efef4a7877
DTSTAMP:20250826T231924Z
SUMMARY:Biscuits & Gravy\, juice\, craisins\, milk
URL;VALUE=URI:https://www.ronank12.edu/departments/food-service/calendar/85
 47287/biscuits-gravy-juice-craisins-milk
DTSTART:20250917T140000Z
DTEND:20250917T143000Z
END:VEVENT
END:VCALENDAR
