BEGIN:VCALENDAR
VERSION:2.0
PRODID:SchoolNow
CALSCALE:GREGORIAN
BEGIN:VEVENT
UID:1ae4a48c-82d3-11f0-a755-02efef4a7877
DTSTAMP:20250826T231924Z
SUMMARY:Pancake on a stick\, applesauce\, milk
URL;VALUE=URI:https://www.ronank12.edu/departments/food-service/calendar/85
 47288/pancake-on-a-stick-applesauce-milk
DTSTART:20250918T140000Z
DTEND:20250918T143000Z
END:VEVENT
END:VCALENDAR
