BEGIN:VCALENDAR
VERSION:2.0
PRODID:SchoolNow
CALSCALE:GREGORIAN
BEGIN:VEVENT
UID:1ae4a676-82d3-11f0-b94b-02efef4a7877
DTSTAMP:20250826T231924Z
SUMMARY:Sausage\, Muffin\, or Cold Cereal\, Pears\, Milk
URL;VALUE=URI:https://www.ronank12.edu/departments/food-service/calendar/85
 47289/sausage-muffin-or-cold-cereal-pears-milk
DTSTART:20250919T140000Z
DTEND:20250919T143000Z
END:VEVENT
END:VCALENDAR
