BEGIN:VCALENDAR
VERSION:2.0
PRODID:SchoolNow
CALSCALE:GREGORIAN
BEGIN:VEVENT
UID:1ae4a8a6-82d3-11f0-b027-02efef4a7877
DTSTAMP:20250826T231924Z
SUMMARY:Banana bread\, peaches\, milk
URL;VALUE=URI:https://www.ronank12.edu/departments/food-service/calendar/85
 47290/banana-bread-peaches-milk
DTSTART:20250922T140000Z
DTEND:20250922T143000Z
END:VEVENT
END:VCALENDAR
