BEGIN:VCALENDAR
VERSION:2.0
PRODID:SchoolNow
CALSCALE:GREGORIAN
BEGIN:VEVENT
UID:1ae4ad38-82d3-11f0-9afc-02efef4a7877
DTSTAMP:20250826T231924Z
SUMMARY:Cheese Omelet\, toast\, milk\, juice\, raisins
URL;VALUE=URI:https://www.ronank12.edu/departments/food-service/calendar/85
 47292/cheese-omelet-toast-milk-juice-raisins
DTSTART:20250924T140000Z
DTEND:20250924T143000Z
END:VEVENT
END:VCALENDAR
