BEGIN:VCALENDAR
VERSION:2.0
PRODID:SchoolNow
CALSCALE:GREGORIAN
BEGIN:VEVENT
UID:1ae4b6a2-82d3-11f0-b171-02efef4a7877
DTSTAMP:20250826T231924Z
SUMMARY:French toast\, juice\, craisins\, milk
URL;VALUE=URI:https://www.ronank12.edu/departments/food-service/calendar/85
 47293/french-toast-juice-craisins-milk
DTSTART:20250925T140000Z
DTEND:20250925T143000Z
END:VEVENT
END:VCALENDAR
